Workbook

Sheet 화면설명
A1: 2016년 귀속 퇴직소득 세액계산 프로그램
A4: ○ 이 프로그램은 납세자 편의를 위해 제공하는 프로그램으로 상업목적으로 사용하는 것을 금합니다. ○ 이 프로그램은 퇴직일(귀속시기)이 2016.1.1.이후인 경우에만 사용이 가능하고, 퇴직일이 2015.12.31.이전이면 2015년 귀속 퇴직소득 세액계산 프로그램을 사용하여야 합니다. ○ 이 프로그램은 퇴직소득세를 원천징수하지 않은 경우에 이연퇴직소득세를 계산할 수 있으므로 원천징수하였다가 환급하는 경우에는 사용이 불가합니다.
A7: 1. 일러두기
A9: 가. 본 프로그램은 소득세법 시행규칙 [별지 제24호서식(2)]<개정 2016.2.25>을 반영한 프로그램입니다.
A11: 나. 입력화면의 "1.인적사항" ~ "3.과세이연계좌" 중 "노란색" 부분(해당사항이 있는 부분만)을 입력하고
A13: 다. '중간지급 등'에 기재할 사항은 해당 과세기간 중 최종 퇴직분 외에 중간정산이 있거나 해당 과세기간 외에 중간정산이 있는 경우 이를 통산(합산)하여 기재하며, 해당 과세기간 중에 중간정산만 있을 경우 이를 최종분에 기재합니다.
A14: ※ 주(현)근무지의 중간정산과 종(전)근무지(근무처가 다른 회사)에서 해당 과세기간에 지급받은 퇴직금이 있는 경우 이 프로그램을 사용할 수 없고 퇴직소득 확정신고 대상임
A15: 라. 기본사항 등 입력 방법, 세액계산방법 요약 및 유의사항을 충분히 읽어보시고 입력하시기 바랍니다.
A17: 2. 기본사항 등 입력 이용방법 ( 반드시 노란색 시트의 노란색 셀에만 입력할 것)
A19: 가. 인적사항 : 원천징수의무자(회사) 및 소득자의 인적사항을 빠짐없이 입력
A20: - 징수의무자구분 : 사업장 '1', 공적연금사업자 '3'을 구분하여 적습니다.
A22: 나. 지급명세서상 퇴직급여 현황의 구분
... A52: 중간지급일 이후 근속연수 5년, 최초입사일 이후 근속연수 10년이면
B53: → 근속연수 공제는 근속연수 5년으로 하여 1,500,000원 공제함
A55: ② 2013.1.1. 이후 분에 대하여 연평균과세표준에 5배수를 하여(환산과세표준) 세율 적용
A56: - 연평균과세표준(퇴직소득과세표준/근속연수)에 5배를 하여 환산과세표준을 산출하여 세율을 적용하고 이를 다시 5로 나눔
A59: ③ 산출세액
A60: - 2012.12.31. 이전분 : 연평균과세표준에 기본세율을 적용하여 연평균산출세액 계산
A61: - 2013. 1. 1. 이후분 : 연평균과세표준의 5배수에 기본세율을 적용하고 이를 다시 5로 나눠 연평균산출세액 계산
A62: - 각 퇴직소득의 연평균산출세액에 각 근속연수를 다시 곱하여 산출세액계산
A64: 나. 개정 규정에 따른 계산방법
A66: ① 퇴직소득 과세방식 변경
A67: - 정률공제(퇴직소득의 40%를 일률적으로 공제) -> 차등공제(환산급여구간별로 차등공제)
A68: - 환산급여 : {(퇴직소득 - 근속연수공제) / 근속연수} x 12
A70: ② 환산급여 공제
B72: 환산급여 | D72: 차등공제
B73: 8백만원 이하 | D73: 환산급여의 100%
B74: 7천만원 이하 | D74: 8백만원+(8백만원 초과분의 60%)
B75: 1억원 이하 | D75: 4천520만원+(7천만원 초과분의 55%)
B76: 3억원 이하 | D76: 6천170만원+(1억원 초과분의 45%)
B77: 3억원 초과 | D77: 1억5천170만원+(3억원 초과분의 35%)
A79: ③ 산출세액
A80: - {(환산급여 - 환산급여 공제) x 기본세율} / 12 x 근속연수
A82: ④ 세액계산 특례
A83: - (2015년 이전 계산방식에 의한 산출세액 x 적용비율) + (2016년 이후 계산방식에 의한 산출세액 x 적용비율)
B85: < 적용비율 >
B86: 구 분 | D86: 2016년 | E86: 2017년 | F86: 2018년 | G86: 2019년
B87: 2015년 이전 방식 | D87: 0.8 | E87: 0.6 | F87: 0.4 | G87: 0.2
B88: 2016년 이후 방식 | D88: 0.2 | E88: 0.4 | F88: 0.6 | G88: 0.8
A90: 다. 이연퇴직소득세액계산
A91: - 신고대상세액 * 계좌입금금액 / 퇴직급여(최종분 퇴직급여)

Sheet 기본사항 등 입력
B1: 이 프로그램은 원활한 퇴직소득세 신고 업무를 돕기 위하여 참고용으로 제공하는 서비스입니다. 따라서 상업용 목적으로 사용하여서는 안되며, 원천징수의무자의 책임하에 퇴직소득세를 신고, 납부하셔야 합니다.
B4: 1.인적사항
B5: 입 력 사 항 | C5: 징수의무자 | D5: 근무처구분 | F5: 최종(퇴직) | H5: 중간지급 등
D6: 사업자등록번호
D7: 법인명(상호)
D8: 대표자(성명)
D9: 주민(법인)등록번호
D10: 소재지(주소)
D11: 징수의무자구분
D12: 관할세무서
C13: 소 득 자 | D13: 성명
D14: 주민등록번호
D15: 임원여부(여/부)
D16: 주소
B18: 2.퇴직금 지급(영수)내역 | H18: ※ 날짜 입력시 "yyyy-mm-dd" 의 형식으로 입력
B19: 근무처구분 | C19: 입사일 | D19: 기산일 ※ 필수입력 | E19: 퇴사일 ※ 필수입력 | F19: 지급일 ※ 필수입력 | G19: 2012.12.31 이전 제외월수 | H19: 2013.1.1이후 제외월수 | I19: 2012.12.31 이전 가산월수 | J19: 2013.1.1 이후 가산월수
B20: 최종
B21: 중간지급 등
B23: 근무처구분 | C23: 퇴직급여 ※ 필수입력 | D23: 비과세 퇴직급여 | E23: 기납부세액 | F23: ※ 중간정산 지급일 = 퇴사일 = 퇴직소득 귀속시기 [소득세법 시행령 제43조 2항]
B24: 최종
B25: 중간지급 등
B26: ※ 중간지급 등의 기산일과 퇴사일을 기재하면 반드시 퇴직급여를 입력하여야 합니다.
B27: 3. 과세이연계좌 | D27: - 해당사항이 없는 경우 입력 금지
B28: * 「소득세법」 제146조제2항에 따라 퇴직급여액을 연금계좌에 입금(이체)하여 퇴직소득세 징수를 하지 아니한 경우에 작성합니다.(거주자인 경우만 작성합니다)
B29: 과세이연계좌 | C29: 퇴직연금사업자명 | D29: 사업자등록번호 | E29: 계좌번호 | F29: 계좌입금금액 | G29: 입금(이체)일
B30: (1) | F30: 0
B31: (2) | F31: 0

Sheet 퇴직소득원천징수영수증
B2: ■ 소득세법 시행규칙[별지 제24호서식(2)] <개정 2016.2.25.>
AB3: 거주구분 | AE3: 거주자1 / 비거주자2
C4: 관리번호 | H4: 퇴직소득원천징수영수증/지급명세서 | AB4: 내외국인 | AE4: 내국인1/ 외국인9
H5: ( [ ] 소득자 보관용 [ ] 발행자 보관용 [ ] 발행자 보고용 ) | AB5: 거주지국 | AE5: 거주지국코드
AB6: 징수의무자구분 | AE6: ='기본사항 등 입력'!F11 -> 0
B7: 징수 의무자 | D7: ①사업자등록번호 | H7: ='기본사항 등 입력'!F6 -> 0 | P7: ②법인명(상호) | U7: ='기본사항 등 입력'!F7 -> 0 | AB7: ③대표자(성명) | AE7: ='기본사항 등 입력'!F8 -> 0
D8: ④법인(주민)등록번호 | H8: ='기본사항 등 입력'!F9 -> 0 | P8: ⑤소재지(주소) | U8: ='기본사항 등 입력'!F10 -> 0
B9: 소득자 | D9: ⑥성 명 | H9: =IF('기본사항 등 입력'!F13="","",'기본사항 등 입력'!F13) | P9: ⑦주민등록번호 | U9: =IF('기본사항 등 입력'!F14="","",'기본사항 등 입력'!F14)
D10: ⑧주 소 | H10: =IF('기본사항 등 입력'!F16="","",'기본사항 등 입력'!F16) | AB10: (9) 임원여부 | AE10: ='기본사항 등 입력'!F15 -> 0
D11: (10) 확정급여형 퇴직연금 제도 가입일 | AB11: (11) 2011.12.31.퇴직금
B13: 귀 속 연 도 | J13: 부터 | L13: (12) 퇴직사유 | V13: [ ]정년퇴직 [ ]정리해고 [ ]자발적 퇴직
J14: 까지 | V14: [ ]임원퇴직 [ ]중간정산 [ ]기 타
B15: 퇴직 급여 현황 | D15: 근 무 처 구 분 | J15: 중간지급 등 | S15: 최종 | AB15: 정산
D16: (13) 근무처명 | J16: =IF('기본사항 등 입력'!H7="","",'기본사항 등 입력'!H7) | S16: ='기본사항 등 입력'!F7 -> 0
D17: (14) 사업자등록번호 | J17: =IF('기본사항 등 입력'!H6="","",'기본사항 등 입력'!H6) | S17: ='기본사항 등 입력'!F6 -> 0
D18: (15) 퇴직급여 | J18: ='기본사항 등 입력'!C25 -> 0 | S18: ='기본사항 등 입력'!C24 -> 0 | AB18: =J18+S18 -> 0
D19: (16) 비과세 퇴직급여 | J19: ='기본사항 등 입력'!D25 -> 0 | S19: ='기본사항 등 입력'!D24 -> 0 | AB19: =J19+S19 -> 0
D20: (17) 과세대상 퇴직급여(15-16) | J20: =J18-J19 -> 0 | S20: =S18-S19 -> 0 | AB20: =J20+S20 -> 0
B21: 근속 연수 | D21: 구 분 | G21: (18)입사일 | J21: (19)기산일 | M21: (20)퇴사일 | P21: (21)지급일 | T21: (22)근속월수 | W21: (23)제외월수 | Z21: (24)가산월수 | AC21: (25)중복월수 | AE21: (26)근속연수
D22: 중간지급 근속연수 | G22: =IF('기본사항 등 입력'!C21="","",'기본사항 등 입력'!C21) | J22: =IF('기본사항 등 입력'!D21="","",'기본사항 등 입력'!D21) | M22: =IF('기본사항 등 입력'!E21="","",'기본사항 등 입력'!E21) | P22: =IF('기본사항 등 입력'!F21="","",'기본사항 등 입력'!F21) | T22: =IF(J22="",0,DATEDIF(J22,M22,"M")+1) -> 0 | W22: ='기본사항 등 입력'!G21+'기본사항 등 입력'!H21 -> 0 | Z22: ='기본사항 등 입력'!I21+'기본사항 등 입력'!J21 -> 0 | AE22: =IF(T22="",0,IF(((T22-W22+Z22)/12)<=INT((T22-W22+Z22)/12),INT((T22-W22+Z22)/12),INT((T22-W22+Z22)/12)+1)) -> 0
D23: 최종 근속연수 | G23: =IF('기본사항 등 입력'!C20="","",'기본사항 등 입력'!C20) | J23: =IF('기본사항 등 입력'!D20="","",'기본사항 등 입력'!D20) | M23: =IF('기본사항 등 입력'!E20="","",'기본사항 등 입력'!E20) | P23: =IF('기본사항 등 입력'!F20="","",'기본사항 등 입력'!F20) | T23: =IF(J23="",0,DATEDIF(J23,M23,"M")+1) -> 0 | W23: ='기본사항 등 입력'!G20+'기본사항 등 입력'!H20 -> 0 | Z23: ='기본사항 등 입력'!I20+'기본사항 등 입력'!J20 -> 0 | AE23: =IF(T23="",0,IF(((T23-W23+Z23-AC23)/12)<=INT((T23-W23+Z23-AC23)/12),INT((T23-W23+Z23-AC23)/12),INT((T23-W23+Z23-AC23)/12)+1)) -> 0
D24: 정산 근속연수 | J24: =IF('기본사항 등 입력'!D20="","",IF('기본사항 등 입력'!D21="",'기본사항 등 입력'!D20,MIN('기본사항 등 입력'!D21,'기본사항 등 입력'!D20))) | M24: =IF('기본사항 등 입력'!E20="","",IF('기본사항 등 입력'!E21="",'기본사항 등 입력'!E20,MAX('기본사항 등 입력'!E21,'기본사항 등 입력'!E20))) | T24: =IF(J24="",0,DATEDIF(J24,M24,"M")+1) -> 0 | W24: =W23+W22 -> 0 | Z24: =Z22+Z23 -> 0 | AC24: =IF(M22="",0,IF(M22-MAX(J23,J22)<1,0,DATEDIF(MAX(J23,J22),MIN(M22,M23),"M")+1)) -> 0 | AE24: =IF('기본사항 등 입력'!D20="",0,IF('기본사항 등 입력'!D21="",IF(T24="",0,IF(((T24-W24+Z24)/12)<=INT((T24-W24+Z24)/12),INT((T24-W24+Z24)/12),INT((T24-W24+Z24)/12)+1)),IF(J23-M22<=1,IF(T24="",0,IF(((T24-W24+Z24)/12)<=INT((T24-W24+Z24)/12),INT((T24-W24+Z24)/12),INT((T24-W24+Z24)/12)+1)),"#VALUE!"))) -> 0
D25: 안분 | E25: 2012.12.31.이전 | G25: =IF(J24<=DATE(2012,12,31),J24,"") | J25: =IF(J24<=DATE(2012,12,31),J24,"") | M25: =IF(J25="","",IF(M24>=DATE(2012,12,31),DATE(2012,12,31),M24)) | T25: =IF(J25="",0,DATEDIF(J25,M25,"M")+1) -> 0 | W25: ='기본사항 등 입력'!G20+'기본사항 등 입력'!G21 -> 0 | Z25: ='기본사항 등 입력'!I20+'기본사항 등 입력'!I21 -> 0 | AE25: =IF(T25="",0,IF(((T25-W25+Z25-AC25)/12)<=INT((T25-W25+Z25-AC25)/12),INT((T25-W25+Z25-AC25)/12),INT((T25-W25+Z25-AC25)/12)+1)) -> 0
E26: 2013. 1. 1. 이후 | G26: =IF(J24<DATE(2013,1,1),IF(M24<=DATE(2012,12,31),"",DATE(2013,1,1)),J24) | J26: =IF(J24<DATE(2013,1,1),IF(M24<=DATE(2012,12,31),"",DATE(2013,1,1)),J24) | M26: =IF(G26="","",M24) | T26: =IF(J26="",0,DATEDIF(J26,M26,"M")+1) -> 0 | W26: ='기본사항 등 입력'!H20+'기본사항 등 입력'!H21 -> 0 | Z26: ='기본사항 등 입력'!J20+'기본사항 등 입력'!J21 -> 0 | AE26: =IF(AE24="",0,IF(AE25="",AE24,AE24-AE25)) -> 0
B27: 2016~2019년간 퇴직소득세액 계산방법 ( ❈ 개정규정 및 종전 규정에 따른 산출세액에 퇴직연도별 비율을 적용하여 계산합니다.)
B28: 개정 규정에 따른 계산 방법 | E28: 과세 표준 계산 | F28: 계 산 내 용 | S28: 금 액
F29: (27)퇴직소득(17) | S29: =AB20 -> 0
F30: (28)근속연수공제 | S30: =IF(AE24<=5,AE24*300000,IF(AE24<=10,(AE24-5)*500000+1500000,IF(AE24<=20,(AE24-10)*800000+4000000,IF(AE24>20,(AE24-20)*1200000+12000000)))) -> 0
F31: (29) 환산급여 [(27-28) × 12배 /정산근속연수] | S31: =IF(AE24=0,0,ROUNDDOWN(((S29-S30)*12/AE24),0)) -> 0
F32: (30) 환산급여별공제 | S32: =ROUND(IF(S31<=8000000,S31,IF(S31<=70000000,(S31-8000000)*0.6+8000000,IF(S31<=100000000,(S31-70000000)*0.55+45200000,IF(S31<=300000000,(S31-100000000)*0.45+61700000,IF(S31>300000000,(S31-300000000)*0.35+151700000))))),0) -> 0
F33: (31) 퇴직소득과세표준(29-30) | S33: =S31-S32 -> 0
E34: 세액 계산 | F34: 계 산 내 용 | S34: 금 액
F35: (32) 환산산출세액(31 × 세율) | S35: =ROUNDDOWN(IF(S33<=12000000,S33*0.06,IF(S33<=46000000,S33*0.15-1080000,IF(S33<=88000000,S33*0.24-5220000,IF(S33<=150000000,S33*0.35-14900000,IF(S33>150000000,S33*0.38-19400000))))),0) -> 0
F36: (33) 산출세액(32 × 정산근속연수 / 12배) | S36: =ROUNDDOWN(S35/12*AE24,0) -> 0
B37: 종전 규정에 따른 계산 방법 | E37: 과세 표준 계산 | F37: 계 산 내 용 | S37: 금 액
F38: (34)퇴직소득(17) | S38: =J20+S20 -> 0
F39: (35)퇴직소득정률공제 | S39: =ROUND(S38*0.4,0) -> 0
F40: (36)근속연수공제 | S40: =IF(AE24<=5,AE24*300000,IF(AE24<=10,(AE24-5)*500000+1500000,IF(AE24<=20,(AE24-10)*800000+4000000,IF(AE24>20,(AE24-20)*1200000+12000000)))) -> 0
F41: (37) 퇴직소득과세표준(34-35-36) | S41: =IF(S38-S39-S40<0,0,ROUNDDOWN(S38-S39-S40,0)) -> 0
E42: 세액 계산 | F42: 계 산 내 용 | S42: 2012.12.31. 이전 | Y42: 2013.1.1. 이후 | AD42: 합 계
F43: (38)과세표준안분 (37×각근속연수/정산근속연수) | S43: =IF(AE24=0,0,IF(AE25=0,0,ROUND(S41*AE25/AE24,0))) -> 0 | Y43: =IF(AE24=0,0,S41-S43) -> 0 | AD43: =S43+Y43 -> 0
F44: (39)연평균과세표준(38/각근속연수) | S44: =IF(AE25 = 0,0,ROUNDDOWN(S43/AE25,0)) -> 0 | Y44: =ROUNDDOWN(IF(Y43=0,0,Y43/AE26),0) -> 0 | AD44: =ROUNDDOWN(IF(AD43=0,0,AD43/AE24),0) -> 0
F45: (40)환산과세표준(39×5배) | Y45: =Y44*5 -> 0 | AD45: =Y45 -> 0
F46: (41)환산산출세액(40×세율) | Y46: =ROUNDDOWN(IF(Y45<=12000000,Y45*0.06,IF(Y45<=46000000,Y45*0.15-1080000,IF(Y45<=88000000,Y45*0.24-5220000,IF(Y45<=150000000,Y45*0.35-14900000,IF(Y45>150000000,Y45*0.38-19400000))))),0) -> 0 | AD46: =Y46 -> 0
F47: (42)연평균산출세액 ( 12.12.31. 이전 : (39)×세율, 13.1.1. 이후 : ((41)/5배) | S47: =ROUNDDOWN(IF(S44<=12000000,S44*0.06,IF(S44<=46000000,S44*0.15-1080000,IF(S44<=88000000,S44*0.24-5220000,IF(S44<=150000000,S44*0.35-14900000,IF(S44>150000000,S44*0.38-19400000))))),0) -> 0 | Y47: =ROUNDDOWN(Y46/5,0) -> 0 | AD47: =S47+Y47 -> 0
F48: (43)산출세액(42×각 근속연수) | S48: =S47*AE25 -> 0 | Y48: =IF(AE26=0,0,Y47*AE26) -> 0 | AD48: =S48+Y48 -> 0
B49: 퇴직소득 세액계산 | F49: (44) 퇴직일이 속하는 과세연도 | S49: =TEXT(M24,"YYYY")
F50: (45) 퇴직소득세 산출세액 (33×퇴직연도별비율) + [(43×(100% - 퇴직연도별비율)] | S50: =ROUNDDOWN(IF(TEXT(M24,"YYYY")="2016",AD48*0.8+S36*0.2,IF(TEXT(M24,"YYYY")="2017",AD48*0.6+S36*0.4,IF(TEXT(M24,"YYYY")="2018",AD48*0.4+S36*0.6,IF(TEXT(M24,"YYYY")="2019",AD48*0.2+S36*0.8, S36)))),0) -> 0
F51: (46) 기납부(또는 기과세이연) 세액 | S51: ='기본사항 등 입력'!E25 -> 0
F52: (47) 신고대상세액(45 - 46) | S52: =S50-S51 -> 0
B53: 이연 퇴직 소득 세액 계산 | D53: (48) 신고대상세액(47) | F53: 연금계좌 입금명세 | U53: (50) 퇴직급여(17) | AB53: (51) 이연 퇴직소득세 (48 × 49 / 50)
F54: 연금계좌취급자 | J54: 사업자등록번호 | M54: 계좌번호 | P54: 입금일 | R54: (49)계좌입금금액
D55: =IF('기본사항 등 입력'!F30+'기본사항 등 입력'!F31=0,0,S52) -> 0 | F55: =IF('기본사항 등 입력'!C30="","",'기본사항 등 입력'!C30) | J55: =IF('기본사항 등 입력'!D30="","",'기본사항 등 입력'!D30) | M55: =IF('기본사항 등 입력'!E30="","",'기본사항 등 입력'!E30) | P55: =IF('기본사항 등 입력'!G30="","",'기본사항 등 입력'!G30) | R55: ='기본사항 등 입력'!F30 -> 0 | U55: =IF('기본사항 등 입력'!F30=0,0,IF(퇴직소득원천징수영수증!S20=0,0,퇴직소득원천징수영수증!S20)) -> 0 | AB55: =IF(U55=0,0,ROUND(D55*R57/U55,0)) -> 0
F56: =IF('기본사항 등 입력'!C31="","",'기본사항 등 입력'!C31) | J56: =IF('기본사항 등 입력'!D31="","",'기본사항 등 입력'!D31) | M56: =IF('기본사항 등 입력'!E31="","",'기본사항 등 입력'!E31) | P56: =IF('기본사항 등 입력'!G31="","",'기본사항 등 입력'!G31) | R56: ='기본사항 등 입력'!F31 -> 0
F57: (52) 합 계 | R57: ='기본사항 등 입력'!F30+'기본사항 등 입력'!F31 -> 0
B58: 납 부 명 세 | D58: 구 분 | J58: 소득세 | R58: 지방소득세 | X58: 농어촌특별세 | AB58: 계
D59: (53) 신고대상세액(47) | J59: =IF(D55=0,S52,D55) -> 0 | R59: =ROUNDDOWN(J59/10,0) -> 0 | X59: 0 | AB59: =J59+R59+X59 -> 0
D60: (54) 이연퇴직소득세(51) | J60: =IF(AB55=0,0,AB55) -> 0 | R60: =ROUNDDOWN(J60/10,0) -> 0 | X60: 0 | AB60: =J60+R60+X60 -> 0
D61: (55) 차감원천징수세액(53-54) | J61: =ROUNDDOWN(J59-J60,-1) -> 0 | R61: =ROUNDDOWN(J61/10,-1) -> 0 | X61: 0 | AB61: =J61+R61+X61 -> 0
AF62: =TEXT(M24,"YYYY")
B63: 위의 원천징수세액(퇴직소득)을 정히 영수(지급)합니다.
AC64: 년 | AE64: 월 | AF64: 일
B65: 징수(보고)의무자 | AD65: (서명 또는 인)
E66: 세무서장 | G66: 귀하
