Workbook

Sheet 화면설명
A1: 2025년 귀속 퇴직소득 세액계산 프로그램
A4: ○ 이 프로그램은 납세자 편의를 위해 제공하는 프로그램으로 상업목적으로 사용하는 것을 금합니다. ○ 이 프로그램은 퇴직일(귀속시기)이 2025.1.1.이후인 경우에만 사용이 가능하고, 퇴직일이 2024.12.31.이전이면 해당 귀속연도 퇴직소득 세액계산 프로그램을 사용하여야 합니다. ○ 이 프로그램은 퇴직소득세를 원천징수하지 않은 경우에 이연퇴직소득세를 계산할 수 있으므로 원천징수하였다가 환급하는 경우에는 사용이 불가합니다.
A7: 1. 일러두기
A9: 가. 본 프로그램은 소득세법 시행규칙 [별지 제24호서식(2)]<개정 2024.3.22.>을 반영한 프로그램입니다.
A11: 나. 입력화면「기본사항 등 입력」시트의 "1.인적사항" ~ "3.과세이연계좌" 중 "노란색" 부분(해당 부분만)을 입력하고
A13: 다. '중간지급 등'에 기재할 사항은 해당 과세기간 중 최종 퇴직분 외에 중간정산이 있거나 해당 과세기간 외에 중간정산이 있는 경우 이를 통산(합산)하여 기재하며, 해당 과세기간 중에 중간정산만 있을 경우 이를 최종분에 기재합니다.
A14: ※ 주(현)근무지의 중간정산과 종(전)근무지(근무처가 다른 회사)에서 해당 과세기간에 지급받은 퇴직금이 있는 경우 이 프로그램을 사용할 수 없고 퇴직소득 확정신고 대상임
A15: 라. 다음의 기본사항 등 입력 방법, 세액계산방법 요약 및 유의사항을 충분히 읽어보시고 입력하시기 바랍니다.
A17: 2. 「기본사항 등 입력」 이용방법 (반드시 노란색 시트의 노란색 셀에만 입력할 것)
A19: 가. 인적사항 : 원천징수의무자(회사) 및 소득자의 인적사항을 빠짐없이 입력
A20: - 징수의무자구분 : 사업장 '1', 공적연금사업자 '3'을 구분하여 적습니다.
A22: 나. 지급명세서상 퇴직급여 현황의 구분
... A48: ② 환산급여 공제
B50: 환산급여 | D50: 차등공제
B51: 8백만원 이하 | D51: 환산급여의 100%
B52: 7천만원 이하 | D52: 8백만원+(8백만원 초과분의 60%)
B53: 1억원 이하 | D53: 4천520만원+(7천만원 초과분의 55%)
B54: 3억원 이하 | D54: 6천170만원+(1억원 초과분의 45%)
B55: 3억원 초과 | D55: 1억5천170만원+(3억원 초과분의 35%)
A57: ③ 산출세액
A58: - {(환산급여 - 환산급여 공제) x 기본세율} / 12 x 근속연수
A61: 나. 이연퇴직소득세액계산
A62: - 신고대상세액 * 계좌입금금액 / 퇴직급여(최종분 퇴직급여)

Sheet 기본사항 등 입력
B1: 이 프로그램은 원활한 퇴직소득세 신고 업무를 돕기 위하여 참고용으로 제공하는 서비스입니다. 따라서 상업용 목적으로 사용하여서는 안되며, 원천징수의무자의 책임하에 퇴직소득세를 신고, 납부하셔야 합니다.
B3: 1.인적사항
B4: 입 력 사 항 | C4: 징수의무자 | D4: 근무처구분 | F4: 최종(퇴직) | H4: 중간지급 등
D5: 사업자등록번호
D6: 법인명(상호)
D7: 대표자(성명)
D8: 주민(법인)등록번호
D9: 소재지(주소)
D10: 징수의무자구분
D11: 관할세무서
C12: 소 득 자 | D12: 성명
D13: 주민등록번호
D14: 임원여부(여/부)
D15: 주소
B17: 2. 퇴직사유
B18: 퇴직사유 | C18: 자발적 퇴직
B20: 3.퇴직금 지급(영수)내역 | H20: ※ 날짜 입력시 "yyyy-mm-dd" 의 형식으로 입력
B21: 근무처구분 | C21: 입사일 | D21: 기산일 ※ 필수입력 | E21: 퇴사일 ※ 필수입력 | F21: 지급일 ※ 필수입력 | G21: 제외월수 | H21: 가산월수
B22: 최종
B23: 중간지급 등
B25: 근무처구분 | C25: 퇴직급여 ※ 필수입력 | D25: 비과세 퇴직급여 | E25: 기납부세액 | F25: 세액공제 | G25: ※ 중간정산 지급일 = 퇴사일 = 퇴직소득 귀속시기 [소득세법 시행령 제43조 2항]
B26: 최종
B27: 중간지급 등
B28: ※ 중간지급 등의 기산일과 퇴사일을 기재하면 반드시 퇴직급여를 입력하여야 합니다.
B29: 4. 과세이연계좌 | D29: - 해당사항이 없는 경우 입력 금지
B30: * 「소득세법」 제146조제2항에 따라 퇴직급여액을 연금계좌에 입금(이체)하여 퇴직소득세 징수를 하지 아니한 경우에 작성합니다.(거주자인 경우만 작성합니다)
B31: 과세이연계좌 | C31: 퇴직연금사업자명 | D31: 사업자등록번호 | E31: 계좌번호 | F31: 계좌입금금액 | G31: 입금(이체)일
B32: (1)
B33: (2)

Sheet 퇴직소득원천징수영수증
B2: ■ 소득세법 시행규칙[별지 제24호서식(2)] <개정 2020. 3.13.>
AB3: 거주구분 | AE3: 거주자1 / 비거주자2
C4: 관리번호 | H4: 퇴직소득원천징수영수증/지급명세서 | AB4: 내외국인 | AE4: 내국인1/ 외국인9
AB5: 종교관련종사자 여부 | AE5: 여 1/ 부 2
H6: ( [ ] 소득자 보관용 [ ] 발행자 보관용 [ ] 발행자 보고용 ) | AB6: 거주지국 | AE6: 거주지국코드
AB7: 징수의무자구분 | AE7: =IF('기본사항 등 입력'!F10="","",'기본사항 등 입력'!F10)
B8: 징수 의무자 | D8: ①사업자등록번호 | H8: =IF('기본사항 등 입력'!F5="","",'기본사항 등 입력'!F5) | P8: ②법인명(상호) | U8: =IF('기본사항 등 입력'!F6="","",'기본사항 등 입력'!F6) | AB8: ③대표자(성명) | AE8: =IF('기본사항 등 입력'!F7="","",'기본사항 등 입력'!F7)
D9: ④법인(주민)등록번호 | H9: =IF('기본사항 등 입력'!F8="","",'기본사항 등 입력'!F8) | P9: ⑤소재지(주소) | U9: =IF('기본사항 등 입력'!F9="","",'기본사항 등 입력'!F9)
B10: 소득자 | D10: ⑥성 명 | H10: =IF('기본사항 등 입력'!F12="","",'기본사항 등 입력'!F12) | P10: ⑦주민등록번호 | U10: =IF('기본사항 등 입력'!F13="","",'기본사항 등 입력'!F13)
D11: ⑧주 소 | H11: =IF('기본사항 등 입력'!F15="","",'기본사항 등 입력'!F15) | AB11: (9) 임원여부 | AE11: =IF('기본사항 등 입력'!F14="","",'기본사항 등 입력'!F14)
D12: (10) 확정급여형 퇴직연금 제도 가입일 | AB12: (11) 2011.12.31.퇴직금
B14: 귀 속 연 도 | F14: =IF('기본사항 등 입력'!C18="","",IF('기본사항 등 입력'!C18="중간정산",YEAR(P24) & "-01-01",YEAR(M24) & "-01-01")) -> #VALUE! | J14: 부터 | L14: (12) 퇴직사유 | V14: =IF('기본사항 등 입력'!C18="정년퇴직","[●]","[ ]") & "정년퇴직 " & IF('기본사항 등 입력'!C18="정리해고","[●]","[ ]") & "정리해고 " & IF('기본사항 등 입력'!C18="자발적 퇴직","[●]","[ ]") & "자발적 퇴직" -> [ ]정년퇴직 [ ]정리해고 [●]자발적 퇴직
F15: =IF('기본사항 등 입력'!C18="","",IF('기본사항 등 입력'!C18="중간정산",P24,M24)) | J15: 까지 | V15: =IF('기본사항 등 입력'!C18="임원퇴직","[●]","[ ]") & "임원퇴직 " & IF('기본사항 등 입력'!C18="중간정산","[●]","[ ]") & "중간정산 " & IF('기본사항 등 입력'!C18="기타","[●]","[ ]") & "기 타" -> [ ]임원퇴직 [ ]중간정산 [ ]기 타
B16: 퇴직 급여 현황 | D16: 근 무 처 구 분 | J16: 중간지급 등 | S16: 최종 | AB16: 정산
D17: (13) 근무처명 | J17: =IF('기본사항 등 입력'!H6="","",'기본사항 등 입력'!H6) | S17: =IF('기본사항 등 입력'!F6="","",'기본사항 등 입력'!F6)
D18: (14) 사업자등록번호 | J18: =IF('기본사항 등 입력'!H5="","",'기본사항 등 입력'!H5) | S18: =IF('기본사항 등 입력'!F5="","",'기본사항 등 입력'!F5)
D19: (15) 퇴직급여 | J19: ='기본사항 등 입력'!C27 -> 0 | S19: ='기본사항 등 입력'!C26 -> 0 | AB19: =J19+S19 -> 0
D20: (16) 비과세 퇴직급여 | J20: ='기본사항 등 입력'!D27 -> 0 | S20: ='기본사항 등 입력'!D26 -> 0 | AB20: =J20+S20 -> 0
D21: (17) 과세대상 퇴직급여(15-16) | J21: =J19-J20 -> 0 | S21: =S19-S20 -> 0 | AB21: =J21+S21 -> 0
B22: 근속 연수 | D22: 구 분 | G22: (18)입사일 | J22: (19)기산일 | M22: (20)퇴사일 | P22: (21)지급일 | T22: (22)근속월수 | W22: (23)제외월수 | Z22: (24)가산월수 | AC22: (25)중복월수 | AE22: (26)근속연수
D23: 중간지급 근속연수 | G23: =IF('기본사항 등 입력'!C23="","",'기본사항 등 입력'!C23) | J23: =IF('기본사항 등 입력'!D23="","",'기본사항 등 입력'!D23) | M23: =IF('기본사항 등 입력'!E23="","",'기본사항 등 입력'!E23) | P23: =IF('기본사항 등 입력'!F23="","",'기본사항 등 입력'!F23) | T23: =IF(J23="",0,DATEDIF(J23,M23,"M")+1) -> 0 | W23: ='기본사항 등 입력'!G23 -> 0 | Z23: ='기본사항 등 입력'!H23 -> 0 | AE23: =IF(T23="",0,IF(((T23-W23+Z23)/12)<=INT((T23-W23+Z23)/12),INT((T23-W23+Z23)/12),INT((T23-W23+Z23)/12)+1)) -> 0
D24: 최종 근속연수 | G24: =IF('기본사항 등 입력'!C22="","",'기본사항 등 입력'!C22) | J24: =IF('기본사항 등 입력'!D22="","",'기본사항 등 입력'!D22) | M24: =IF('기본사항 등 입력'!E22="","",'기본사항 등 입력'!E22) | P24: =IF('기본사항 등 입력'!F22="","",'기본사항 등 입력'!F22) | T24: =IF(J24="",0,DATEDIF(J24,M24,"M")+1) -> 0 | W24: ='기본사항 등 입력'!G22 -> 0 | Z24: ='기본사항 등 입력'!H22 -> 0 | AE24: =IF(T24="",0,IF(((T24-W24+Z24)/12)<=INT((T24-W24+Z24)/12),INT((T24-W24+Z24)/12),INT((T24-W24+Z24)/12)+1)) -> 0
D25: 정산 근속연수 | J25: =IF('기본사항 등 입력'!D22="","",IF('기본사항 등 입력'!D23="",'기본사항 등 입력'!D22,MIN('기본사항 등 입력'!D23,'기본사항 등 입력'!D22))) | M25: =IF('기본사항 등 입력'!E22="","",IF('기본사항 등 입력'!E23="",'기본사항 등 입력'!E22,MAX('기본사항 등 입력'!E23,'기본사항 등 입력'!E22))) | T25: =IF(J25="",0,DATEDIF(J25,M25,"M")+1) -> 0 | W25: =W24+W23 -> 0 | Z25: =Z23+Z24 -> 0 | AC25: =IF(M23="",0,IF(M23-MAX(J24,J23)<1,0,DATEDIF(MAX(J24,J23),MIN(M23,M24),"M")+1)) -> 0 | AE25: =IF('기본사항 등 입력'!D22="",0,IF('기본사항 등 입력'!D23="",IF(T25="",0,IF(((T25-W25+Z25)/12)<=INT((T25-W25+Z25)/12),INT((T25-W25+Z25)/12),INT((T25-W25+Z25)/12)+1)),IF(J24-M23<=1,IF(T25="",0,IF(((T25-W25+Z25)/12)<=INT((T25-W25+Z25)/12),INT((T25-W25+Z25)/12),INT((T25-W25+Z25)/12)+1)),"#VALUE!"))) -> 0
B26: 과세 표준 계산 | D26: 계 산 내 용 | S26: 금 액
D27: (27)퇴직소득(17) | S27: =AB21 -> 0
D28: (28)근속연수공제 | S28: =IF(AE25="",0,IF(IF(AE25<=5,AE25*1000000,IF(AE25<=10,(AE25-5)*2000000+5000000,IF(AE25<=20,(AE25-10)*2500000+15000000,IF(AE25>20,(AE25-20)*3000000+40000000))))>(S27),S27,IF(AE25<=5,AE25*1000000,IF(AE25<=10,(AE25-5)*2000000+5000000,IF(AE25<=20,(AE25-10)*2500000+15000000,IF(AE25>20,(AE25-20)*3000000+40000000)))))) -> 0
D29: (29) 환산급여 [(27-28) × 12배 /정산근속연수] | S29: =IF(AE25=0,0,ROUNDDOWN(((S27-S28)*12/AE25),0)) -> 0
D30: (30) 환산급여별공제 | S30: =ROUNDDOWN(IF(S29<=8000000,S29,IF(S29<=70000000,(S29-8000000)*0.6+8000000,IF(S29<=100000000,(S29-70000000)*0.55+45200000,IF(S29<=300000000,(S29-100000000)*0.45+61700000,IF(S29>300000000,(S29-300000000)*0.35+151700000))))),0) -> 0
D31: (31) 퇴직소득과세표준(29-30) | S31: =S29-S30 -> 0
B32: 퇴직 소득 세액 계산 | D32: 계 산 내 용 | S32: 금 액
D33: (32) 환산산출세액(31 × 세율) | S33: =ROUNDDOWN(IF(S31<=14000000,S31*0.06,IF(S31<=50000000,S31*0.15-1260000,IF(S31<=88000000,S31*0.24-5760000,IF(S31<=150000000,S31*0.35-15440000,IF(S31<=300000000,S31*0.38-19940000,IF(S31<=500000000,S31*0.4-25940000,IF(S31<=1000000000,S31*0.42-35940000,IF(S31>1000000000,S31*0.45-65940000)))))))),0) -> 0
D34: (33) 퇴직소득 산출세액(32 × 정산근속연수 / 12배) | S34: =ROUNDDOWN(S33/12*AE25,0) -> 0
D35: (34) 세액공제 | S35: ='기본사항 등 입력'!F26 -> 0
D36: (35) 기납부(또는 기과세이연) 세액 | S36: ='기본사항 등 입력'!E27 -> 0
D37: (36) 신고대상세액(33 - 34 - 35) | S37: =S34-S35-S36 -> 0
B38: 이연 퇴직 소득 세액 계산 | D38: (37) 신고대상세액(36) | F38: 연금계좌 입금명세 | U38: (39) 퇴직급여(17) | AB38: (40) 이연 퇴직소득세 (37 × 38 / 39)
F39: 연금계좌취급자 | J39: 사업자등록번호 | M39: 계좌번호 | P39: 입금일 | R39: (38)계좌입금금액
D40: =IF('기본사항 등 입력'!F32+'기본사항 등 입력'!F33=0,0,S37) -> 0 | F40: =IF('기본사항 등 입력'!C32="","",'기본사항 등 입력'!C32) | J40: =IF('기본사항 등 입력'!D32="","",'기본사항 등 입력'!D32) | M40: =IF('기본사항 등 입력'!E32="","",'기본사항 등 입력'!E32) | P40: =IF('기본사항 등 입력'!G32="","",'기본사항 등 입력'!G32) | R40: ='기본사항 등 입력'!F32 -> 0 | U40: =IF('기본사항 등 입력'!F32=0,0,IF(퇴직소득원천징수영수증!S21=0,0,퇴직소득원천징수영수증!S21)) -> 0 | AB40: =IF(IF(U40=0,0,ROUNDDOWN(D40*R42/U40,0))<0,0,IF(U40=0,0,ROUNDDOWN(D40*R42/U40,0))) -> 0
F41: =IF('기본사항 등 입력'!C33="","",'기본사항 등 입력'!C33) | J41: =IF('기본사항 등 입력'!D33="","",'기본사항 등 입력'!D33) | M41: =IF('기본사항 등 입력'!E33="","",'기본사항 등 입력'!E33) | P41: =IF('기본사항 등 입력'!G33="","",'기본사항 등 입력'!G33) | R41: ='기본사항 등 입력'!F33 -> 0
F42: (41) 합 계 | R42: ='기본사항 등 입력'!F32+'기본사항 등 입력'!F33 -> 0
B43: 납 부 명 세 | D43: 구 분 | J43: 소득세 | R43: 지방소득세 | X43: 농어촌특별세 | AB43: 계
D44: (42) 신고대상세액(36) | J44: =IF(D40=0,S37,D40) -> 0 | R44: =ROUNDDOWN(J44/10,0) -> 0 | AB44: =J44+R44+X44 -> 0
D45: (43) 이연퇴직소득세(40) | J45: =IF(AB40=0,0,AB40) -> 0 | R45: =ROUNDDOWN(J45/10,0) -> 0 | AB45: =J45+R45+X45 -> 0
D46: (44) 차감원천징수세액(42-43) | J46: =ROUNDDOWN(J44-J45,-1) -> 0 | R46: =ROUNDDOWN(J46/10,-1) -> 0 | X46: =ROUNDDOWN(X44-X45,-1) -> 0 | AB46: =J46+R46+X46 -> 0
AF47: =TEXT(M25,"YYYY")
B48: 위의 원천징수세액(퇴직소득)을 정히 영수(지급)합니다.
AC49: 년 | AE49: 월 | AF49: 일
B50: 징수(보고)의무자 | AD50: (서명 또는 인)
E51: 세무서장 | G51: 귀하

Sheet (공지)프로그램변경이력
A1: 수정일자 | B1: 항목번호 | C1: 항목명 | D1: 수 정 내 용
D2: 당 초 | E2: 정 정
A3: 2021.01.01 | B3: - | C3: 2021년 귀속 퇴직소득 세액계산 프로그램 최초 게시

Sheet 퇴직사유
A1: 번호 | B1: 퇴직사유
A2: 1 | B2: 정년퇴직
A3: 2 | B3: 정리해고
A4: 3 | B4: 자발적 퇴직
A5: 4 | B5: 임원퇴직
A6: 5 | B6: 중간정산
A7: 6 | B7: 기타
